BEGIN:VCALENDAR
VERSION:2.0
PRODID:-//Craham · Centre de recherches archéologiques et historiques anciennes et médiévales - ECPv6.15.18//NONSGML v1.0//EN
CALSCALE:GREGORIAN
METHOD:PUBLISH
X-WR-CALNAME:Craham · Centre de recherches archéologiques et historiques anciennes et médiévales
X-ORIGINAL-URL:https://craham.unicaen.fr
X-WR-CALDESC:Évènements pour Craham · Centre de recherches archéologiques et historiques anciennes et médiévales
REFRESH-INTERVAL;VALUE=DURATION:PT1H
X-Robots-Tag:noindex
X-PUBLISHED-TTL:PT1H
BEGIN:VTIMEZONE
TZID:Europe/Paris
BEGIN:DAYLIGHT
TZOFFSETFROM:+0100
TZOFFSETTO:+0200
TZNAME:CEST
DTSTART:20230326T010000
END:DAYLIGHT
BEGIN:STANDARD
TZOFFSETFROM:+0200
TZOFFSETTO:+0100
TZNAME:CET
DTSTART:20231029T010000
END:STANDARD
BEGIN:DAYLIGHT
TZOFFSETFROM:+0100
TZOFFSETTO:+0200
TZNAME:CEST
DTSTART:20240331T010000
END:DAYLIGHT
BEGIN:STANDARD
TZOFFSETFROM:+0200
TZOFFSETTO:+0100
TZNAME:CET
DTSTART:20241027T010000
END:STANDARD
BEGIN:DAYLIGHT
TZOFFSETFROM:+0100
TZOFFSETTO:+0200
TZNAME:CEST
DTSTART:20250330T010000
END:DAYLIGHT
BEGIN:STANDARD
TZOFFSETFROM:+0200
TZOFFSETTO:+0100
TZNAME:CET
DTSTART:20251026T010000
END:STANDARD
END:VTIMEZONE
BEGIN:VEVENT
DTSTART;TZID=Europe/Paris:20241002T140000
DTEND;TZID=Europe/Paris:20241006T120000
DTSTAMP:20260420T014357
CREATED:20240717T134944Z
LAST-MODIFIED:20240906T090629Z
UID:721-1727877600-1728216000@craham.unicaen.fr
SUMMARY:Seigneurs et maîtres : dominer en Normandie médiévale (XIe-XVe siècle)
DESCRIPTION:Qui domine la terre et les hommes en Normandie du XIe au XVe siècle ? Tout en rouvrant les dossiers classiques de l’historiographie normande\, telle la question de la féodalité ou de l’absence du servage\, cette rencontre souhaite faire émerger de nouvelles réflexions sur la notion de domination.  \n\n\n\nConstruits à hauteur d’homme\, par une large gamme de relations qui s’entrecroisent dans tous les aspects de l’existence\, les rapports de domination invitent à prendre en compte la complexité du jeu des acteurs dans la société normande du second Moyen Âge\, à partir de dossiers précis et d’études de cas choisies. À travers la relecture de phénomènes politiques\, économiques\, sociaux et religieux\, pris dans leur ensemble\, ce colloque s’inscrit donc dans la continuité de travaux récents sur la fabrique du pouvoir dans les sociétés médiévales tout en souhaitant interroger les spécificités des structures sociales normandes\, et ce du règne fondateur de Richard II (996-1026) au recouvrement de la Normandie par Charles VII en 1450. \n\n\n\n\nOrganisation\n\n\n\nHugo Fresnel et Bastien Michel (Craham) \n\n\n\n\nProgramme\n\n\n\nMercredi 2 octobre (jour 1)\n\n\n\n\nAprès-midi\nAccueil au CCIC de Cerisy-la-Salle \n\n\n\n19h30 : Dîner \n\n\n\n21h : Présentation du CCIC\, du colloque et des participants \n\n\n\n\n\nJeudi 3 octobre (jour 2)\n\n\n\n\nMatin\nIntroduction\n\n\n\n\n9h15 : Hugo FRESNEL (CRAHAM\, Université de Caen Normandie)\, Bastien MICHEL (CRAHAM\, Université de Caen Normandie)\n\n\n\n\nSession 1\, « Les maîtres du duché : princes\, chevaliers et bourgeois »\n\n\n\n\n9h45 : Pierre BAUDUIN (CRAHAM\, Université de Caen Normandie)\, « « Fidèle ou vassal ? » Richard II et Robert le Pieux »\n\n\n\n10h30 : Pause\n\n\n\n11h : Bastien MICHEL (CRAHAM\, Université de Caen Normandie)\, « Guillaume de Tancarville (fl. 1140-1193) : réseaux et domination aristocratique dans le duché de Normandie »\n\n\n\n11h45 : Lydwine SCORDIA (GRHis\, Université de Rouen Normandie)\, « Michel Dumont\, bourgeois de Rouen\, et ses achats de fiefs nobles en Pays de Caux sous la monarchie lancastrienne »\n\n\n\n\n12h45 : Déjeuner \n\n\n\n\n\n\n\n\nAprès-midi\nSession 2\, « Dominations en marges ? »\n\n\n\n\n14h15 : Hugo FRESNEL (CRAHAM\, Université de Caen Normandie)\, « Dominer et intégrer les îles anglo-normandes (début XIe siècle-1206) »\n\n\n\n15h : Grégory COMBALBERT (CRAHAM\, Université de Caen Normandie)\, « Une domination d’exception : les enclaves diocésaines en Normandie médiévale »\n\n\n\n\n17h : Visite du château et/ou temps libre \n\n\n\n19h30 : Dîner \n\n\n\n\n\nVendredi 4 octobre (jour 3)\n\n\n\n\nMatin\nSession 3\, « Bâtir la domination : autour de quelques châteaux »\n\n\n\n\n9h30 : Aude PAINCHAULT (DRAC\, Eure)\, « Châteaux ducaux\, châteaux rebelles en Normandie sous Henri Ier Beauclerc : les marqueurs de la domination et de la contestation du pouvoir »\n\n\n\n10h15 : Camille MARCY MARGUERITE (Hadès Archéologie)\, « Le château de Gisors\, une architecture marquée par les changements de pouvoir »\n\n\n\n11h : Pause\n\n\n\n11h30 : Alban GOTTFROIS (CRAHAM\, Université de Caen Normandie)\, « Le château de Caen sous la domination anglaise (1417-1450) »\n\n\n\n\n12h45 : Déjeuner \n\n\n\n\nAprès-midi\nSession 4\, « Dominer : codes\, marqueurs\, symboles »\n\n\n\n\n14h15 : Arnaud MONTREUIL (Université du Québec\, Chicoutimi)\, « L’adoubement chevaleresque et la domination seigneuriale laïque en Normandie (v. 1175-v. 1300) »\n\n\n\n15h : Benoît CLAVEL (CNRS)\, Stéphanie DERVIN (INRAP)\, Bénédicte GUILLOT (INRAP)\, « Gibiers\, poissons et vins. Le repas comme lieu de pouvoir au XIIIe siècle au château de Caen »\n\n\n\n15h45 : Pause\n\n\n\n16h : Caroline SIMONET (CRAHAM\, Université de Caen Normandie)\, « Mettre en scène la domination. La place des femmes dans le scellement d’actes en Normandie médiévale (nobles\, religieuses\, paysannes\, bourgeoises) »\n\n\n\n17h : Visite du château et/ou temps libre\n\n\n\n\n19h30 : Dîner \n\n\n\n\n\nSamedi 5 octobre (jour 4)\n\n\n\n\nMatin\nSession 5\, « Servir le Seigneur\, dominer les hommes »\n\n\n\n\n9h30 : Catherine LETOUZEY-RÉTY (Lycée Pierre de Fermat\, Toulouse)\, « “Dei gratia Sanctę Trinitatis de Cadomo abbatissa” : exercer sa domination sur la terre et les hommes à l’abbaye de la Trinité de Caen (XIe-XIIIe s.) »\n\n\n\n10h15 : Fabien PAQUET (CRAHAM\, Université de Caen Normandie)\, « Les intermédiaires de la domination temporelle des abbés normands au XIIIe siècle »\n\n\n\n11h : Pause\n\n\n\n11h30 : Lény RETOUX (CRAHAM\, Université de Caen Normandie)\, « Faire valoir sa domination : Guillaume d’Estouteville face aux conflits de juridiction liés à la coutume de Dieppe (1453-1483) »\n\n\n\n\n12h45 : Déjeuner \n\n\n\n\nAprès-midi\n14h : Départ pour la visite du site de Regnéville-sur-Mer (estuaire de la Sienne\, château et église paroissiale) \n\n\n\nSession 6 : Des cartes et des mots : penser la domination\n\n\n\n\n17h30 : Leonie HICKS (School of Humanities & Educational Studies\, Université Christ Church de Cantorbéry)\, « Gestion de l’environnement ou domination ? Cartographie des ressources à partir des chartes ducales en Normandie » \n\n\n\n18h15 : Daniel POWER (Department of History\, Heritage and Classics\, Université de Swansea)\, « Les droits et pouvoirs seigneuriaux des du Hommet en Normandie et en Angleterre (XIe-XIIIe siècles) »\n\n\n\n\n19h30 : Dîner \n\n\n\n\n\nDimanche 6 octobre (jour 5) \n\n\n\n\nMatin\nSession 7 \, « Ville et capitale : dominer Rouen »\n\n\n\n\n9h : Camille CILONA (GRHis\, Université de Rouen Normandie)\, « Dominer de toute sa hauteur : les enceintes urbaines\, (en)jeu de domination dans la société urbaine médiévale. Le cas de la ville de Rouen au XVe siècle »\n\n\n\n9h45 : Adrien CARBONNET (Centre Roland Mousnier\, Sorbonne Université)\, Anne KUCAB (Centre Roland Mousnier\, Sorbonne Université)\, « Dominer Rouen en temps de guerre civile ? Le roi de France et la capitale de la Normandie pendant la Ligue du Bien Public et la Guerre folle »\n\n\n\n\n10h30 : Pause \n\n\n\nTable-ronde conclusive \n\n\n\n\n10h45 : Luc BOURGEOIS (CRAHAM\, Université de Caen Normandie)\, Antoine DESTEMBERG (CRHES\, Université d’Artois)\, Laure VERDON (TELEMME\, Université Aix-Marseille)\n\n\n\n\n12h : Déjeuner \n\n\n\n\n\nAffiche du colloque (PDF) (pdf · 2 Mo)Télécharger (pdf · 2 Mo)
URL:https://craham.unicaen.fr/evenement/seigneurs-et-maitres-colloque-cerisy-2024/
LOCATION:Cerisy-la-Salle · Centre culturel international de Cerisy\, Château de Cerisy-La-Salle\, 2 Le Château\, Cerisy-la-Salle\, 50210\, France
CATEGORIES:Congrès - Colloque
ATTACH;FMTTYPE=image/jpeg:https://craham.unicaen.fr/wp-content/uploads/sites/62/2024/07/regneville_2.jpg
END:VEVENT
END:VCALENDAR