BEGIN:VCALENDAR
VERSION:2.0
PRODID:-//Craham · Centre de recherches archéologiques et historiques anciennes et médiévales - ECPv6.15.18//NONSGML v1.0//EN
CALSCALE:GREGORIAN
METHOD:PUBLISH
X-ORIGINAL-URL:https://craham.unicaen.fr
X-WR-CALDESC:Évènements pour Craham · Centre de recherches archéologiques et historiques anciennes et médiévales
REFRESH-INTERVAL;VALUE=DURATION:PT1H
X-Robots-Tag:noindex
X-PUBLISHED-TTL:PT1H
BEGIN:VTIMEZONE
TZID:Europe/Paris
BEGIN:DAYLIGHT
TZOFFSETFROM:+0100
TZOFFSETTO:+0200
TZNAME:CEST
DTSTART:20230326T010000
END:DAYLIGHT
BEGIN:STANDARD
TZOFFSETFROM:+0200
TZOFFSETTO:+0100
TZNAME:CET
DTSTART:20231029T010000
END:STANDARD
BEGIN:DAYLIGHT
TZOFFSETFROM:+0100
TZOFFSETTO:+0200
TZNAME:CEST
DTSTART:20240331T010000
END:DAYLIGHT
BEGIN:STANDARD
TZOFFSETFROM:+0200
TZOFFSETTO:+0100
TZNAME:CET
DTSTART:20241027T010000
END:STANDARD
BEGIN:DAYLIGHT
TZOFFSETFROM:+0100
TZOFFSETTO:+0200
TZNAME:CEST
DTSTART:20250330T010000
END:DAYLIGHT
BEGIN:STANDARD
TZOFFSETFROM:+0200
TZOFFSETTO:+0100
TZNAME:CET
DTSTART:20251026T010000
END:STANDARD
END:VTIMEZONE
BEGIN:VEVENT
DTSTART;TZID=Europe/Paris:20241011T080000
DTEND;TZID=Europe/Paris:20241011T170000
DTSTAMP:20260421T031006
CREATED:20240717T122851Z
LAST-MODIFIED:20240717T122935Z
UID:708-1728633600-1728666000@craham.unicaen.fr
SUMMARY:Réceptions de l’Antiquité
DESCRIPTION:Séminaire 2024-2025\, La fabrique des sources : textes\, objets\, sites (de l’Antiquité à la Renaissance)  \n\n\n\n\n\nCommunication\n\n\n\nCatherine GAULLIER-BOUGASSAS (UMR Craham · Unicaen)\, La réception de la Grèce ancienne dans la littérature française (1320-1550) et l’ERC AGRELITA \n\n\n\n\nCoordination de la séance\n\n\n\nC. Gaullier-Bougassas (UMR Craham · Unicaen)
URL:https://craham.unicaen.fr/evenement/receptions-antiquite/
LOCATION:Caen · Campus 1 · Bâtiment D · Salle du Belvédère (DR-408)\, Centre de recherche en sciences de l'éducation\, Esplanade de la Paix\, Caen\, 14000\, France
CATEGORIES:Fabrique des sources
END:VEVENT
END:VCALENDAR