BEGIN:VCALENDAR
VERSION:2.0
PRODID:-//Craham · Centre de recherches archéologiques et historiques anciennes et médiévales - ECPv6.15.18//NONSGML v1.0//EN
CALSCALE:GREGORIAN
METHOD:PUBLISH
X-ORIGINAL-URL:https://craham.unicaen.fr
X-WR-CALDESC:Évènements pour Craham · Centre de recherches archéologiques et historiques anciennes et médiévales
REFRESH-INTERVAL;VALUE=DURATION:PT1H
X-Robots-Tag:noindex
X-PUBLISHED-TTL:PT1H
BEGIN:VTIMEZONE
TZID:Europe/Paris
BEGIN:DAYLIGHT
TZOFFSETFROM:+0100
TZOFFSETTO:+0200
TZNAME:CEST
DTSTART:20230326T010000
END:DAYLIGHT
BEGIN:STANDARD
TZOFFSETFROM:+0200
TZOFFSETTO:+0100
TZNAME:CET
DTSTART:20231029T010000
END:STANDARD
BEGIN:DAYLIGHT
TZOFFSETFROM:+0100
TZOFFSETTO:+0200
TZNAME:CEST
DTSTART:20240331T010000
END:DAYLIGHT
BEGIN:STANDARD
TZOFFSETFROM:+0200
TZOFFSETTO:+0100
TZNAME:CET
DTSTART:20241027T010000
END:STANDARD
BEGIN:DAYLIGHT
TZOFFSETFROM:+0100
TZOFFSETTO:+0200
TZNAME:CEST
DTSTART:20250330T010000
END:DAYLIGHT
BEGIN:STANDARD
TZOFFSETFROM:+0200
TZOFFSETTO:+0100
TZNAME:CET
DTSTART:20251026T010000
END:STANDARD
END:VTIMEZONE
BEGIN:VEVENT
DTSTART;TZID=Europe/Paris:20241018T093000
DTEND;TZID=Europe/Paris:20241019T170000
DTSTAMP:20260421T095134
CREATED:20241003T090812Z
LAST-MODIFIED:20241003T091011Z
UID:48173-1729243800-1729357200@craham.unicaen.fr
SUMMARY:Rencontre Pax Normanna (18-19 octobre 2024)
DESCRIPTION:Les premières générations de la conquête – 2 : s’établir (Le prime generazioni della conquista – 2: insediamento) \n\n\n\nJournées d’étude au Centro Europeo di Studi Normanni (Ariano Irpino) 18-19 octobre 2024 \n\n\n\nCette troisième rencontre du programme Pax Normanna s’inscrit dans le prolongement de la Journée d’étude organisée à Oxford les 22-23 septembre 2023\, et qui était consacrée à « ceux qui partent ». Elle envisagera plus spécifiquement les interrogations liées à l’établissement des conquérants\, en confrontant les différentes situations rencontrées dans les mondes normands en Normandie\, en Grande-Bretagne et en Irlande\, en Italie méridionale et en Sicile\, en Ifrîqiya et en Terre Sainte. \n\n\n\n\nProgramme\n\n\n\n\n\nÀ retenir\n\n\n\nPax Normanna est un des programmes de recherche structurant de l’École française de Rome pour le quinquennal 2022-2026. Le projet est co-porté par le Centre Michel de Boüard CRAHAM (UMR 6273) et le Centre de Recherches en Histoire Internationale et Atlantique (CRHIA EA 1163 de Nantes)  par Pierre Bauduin et Annick Peters-Custot. Il réunit plusieurs partenaires : outre l’École française de Rome\, le CRAHAM et le CRHIA\, il rassemble l’Università della Calabria (Cosenza)\, le Centro Europeo di Studi Normanni (Ariano Irpino)\, la Maison française d’Oxford\, la Maison de la recherche en Sciences humaines de l’Université de Caen Normandie. Y sont également associés de manière plus ponctuelle l’Equipex Biblissima +\, St Peter’s College Oxford\, le Musée de Normandie et les Reiss-Engelhorn-Museen de Mannheim. \n\n\n\nEn savoir plus sur le programme Pax Normanna sur le carnet Mondes normands médiévaux
URL:https://craham.unicaen.fr/evenement/rencontre-pax-normanna-18-19-octobre-2024/
LOCATION:Ariano Irpino · Centro Europeo di Studi Normanni\, Centro Europeo Di Sudi Normanni\, Via Guglielmo Marconi\, Ariano Irpino\, 83031\, Italy
CATEGORIES:Congrès - Colloque
END:VEVENT
BEGIN:VEVENT
DTSTART;TZID=Europe/Paris:20241018T140000
DTEND;TZID=Europe/Paris:20241018T170000
DTSTAMP:20260421T095134
CREATED:20240716T155309Z
LAST-MODIFIED:20240910T151459Z
UID:660-1729260000-1729270800@craham.unicaen.fr
SUMMARY:La longue durée des aménagements fluviaux
DESCRIPTION:Séminaire Mondes nordiques et normands médiévaux 2024-2025. Séance mutualisée avec le séminaire La fabrique des sources : textes\, objets\, sites (de l’Antiquité à la Renaissance). \n\n\n\nCommunications\n\n\n\nAxel BEAUCHAMP (UMR Creaah · Service départemental d’archéologie Pas-de-Calais)\, La longue histoire des rivières normandes. De l’évolution naturelle à l’anthropisation des systèmes fluviaux \n\n\n\nInès LEROY (Cran · UCLouvain\, Belgique)\, L’évolution de l’estuaire de la Canche (Pas-de-Calais)\, de Quentovic à Montreuil-sur-Mer \n\n\n\n\nCoordination de la séance\n\n\n\nL. Bourgeois (UMR Craham · Unicaen)
URL:https://craham.unicaen.fr/evenement/la-longue-duree-des-amenagements-fluviaux/
LOCATION:Caen · Campus 1 · Bâtiment D · Salle du Belvédère (DR-408)\, Centre de recherche en sciences de l'éducation\, Esplanade de la Paix\, Caen\, 14000\, France
CATEGORIES:Fabrique des sources,Mondes nordiques et normands médiévaux
END:VEVENT
END:VCALENDAR