BEGIN:VCALENDAR
VERSION:2.0
PRODID:-//Craham · Centre de recherches archéologiques et historiques anciennes et médiévales - ECPv6.15.18//NONSGML v1.0//EN
CALSCALE:GREGORIAN
METHOD:PUBLISH
X-WR-CALNAME:Craham · Centre de recherches archéologiques et historiques anciennes et médiévales
X-ORIGINAL-URL:https://craham.unicaen.fr
X-WR-CALDESC:Évènements pour Craham · Centre de recherches archéologiques et historiques anciennes et médiévales
REFRESH-INTERVAL;VALUE=DURATION:PT1H
X-Robots-Tag:noindex
X-PUBLISHED-TTL:PT1H
BEGIN:VTIMEZONE
TZID:Europe/Paris
BEGIN:DAYLIGHT
TZOFFSETFROM:+0100
TZOFFSETTO:+0200
TZNAME:CEST
DTSTART:20230326T010000
END:DAYLIGHT
BEGIN:STANDARD
TZOFFSETFROM:+0200
TZOFFSETTO:+0100
TZNAME:CET
DTSTART:20231029T010000
END:STANDARD
BEGIN:DAYLIGHT
TZOFFSETFROM:+0100
TZOFFSETTO:+0200
TZNAME:CEST
DTSTART:20240331T010000
END:DAYLIGHT
BEGIN:STANDARD
TZOFFSETFROM:+0200
TZOFFSETTO:+0100
TZNAME:CET
DTSTART:20241027T010000
END:STANDARD
BEGIN:DAYLIGHT
TZOFFSETFROM:+0100
TZOFFSETTO:+0200
TZNAME:CEST
DTSTART:20250330T010000
END:DAYLIGHT
BEGIN:STANDARD
TZOFFSETFROM:+0200
TZOFFSETTO:+0100
TZNAME:CET
DTSTART:20251026T010000
END:STANDARD
END:VTIMEZONE
BEGIN:VEVENT
DTSTART;TZID=Europe/Paris:20241025T140000
DTEND;TZID=Europe/Paris:20241025T170000
DTSTAMP:20260423T142743
CREATED:20240717T123258Z
LAST-MODIFIED:20240717T123324Z
UID:710-1729864800-1729875600@craham.unicaen.fr
SUMMARY:Sécher et fumer : comment ? pourquoi ? Fonctionnement et usages des séchoirs et fumoirs antiques
DESCRIPTION:Séminaire 2024-2025\, La fabrique des sources : textes\, objets\, sites (de l’Antiquité à la Renaissance) \n\n\n\nCommunications\n\n\n\nCécile ALLINNE (UMR Craham · Unicaen)\, Pour une bonne cuisson à basse température : un usage inédit de trois séchoirs des IIe-IIIe siècles à Commes (Calvados) \n\n\n\nGuillaume HUITOREL (UMR Arscan · Service départemental d’archéologie Seine-et-Marne)\, Caractériser les séchoirs et fumoirs gallo-romains : données\, méthodes et résultats d’une recherche en cours \n\n\n\n\nCoordination de la séance\n\n\n\nC. Allinne (UMR Craham · Unicaen)
URL:https://craham.unicaen.fr/evenement/sechoirs-et-fumoirs-antiques/
LOCATION:Caen · Campus 1 · Maison de la recherche en sciences humaines (MRSH) · Amphi\, Campus 1\, Maison de la recherche en sciences humaines (MRSH)\, 1 Esplanade de la Paix\, Caen\, 14000\, France
CATEGORIES:Fabrique des sources
END:VEVENT
END:VCALENDAR