BEGIN:VCALENDAR
VERSION:2.0
PRODID:-//Craham · Centre de recherches archéologiques et historiques anciennes et médiévales - ECPv6.15.18//NONSGML v1.0//EN
CALSCALE:GREGORIAN
METHOD:PUBLISH
X-WR-CALNAME:Craham · Centre de recherches archéologiques et historiques anciennes et médiévales
X-ORIGINAL-URL:https://craham.unicaen.fr
X-WR-CALDESC:Évènements pour Craham · Centre de recherches archéologiques et historiques anciennes et médiévales
REFRESH-INTERVAL;VALUE=DURATION:PT1H
X-Robots-Tag:noindex
X-PUBLISHED-TTL:PT1H
BEGIN:VTIMEZONE
TZID:Europe/Paris
BEGIN:DAYLIGHT
TZOFFSETFROM:+0100
TZOFFSETTO:+0200
TZNAME:CEST
DTSTART:20230326T010000
END:DAYLIGHT
BEGIN:STANDARD
TZOFFSETFROM:+0200
TZOFFSETTO:+0100
TZNAME:CET
DTSTART:20231029T010000
END:STANDARD
BEGIN:DAYLIGHT
TZOFFSETFROM:+0100
TZOFFSETTO:+0200
TZNAME:CEST
DTSTART:20240331T010000
END:DAYLIGHT
BEGIN:STANDARD
TZOFFSETFROM:+0200
TZOFFSETTO:+0100
TZNAME:CET
DTSTART:20241027T010000
END:STANDARD
BEGIN:DAYLIGHT
TZOFFSETFROM:+0100
TZOFFSETTO:+0200
TZNAME:CEST
DTSTART:20250330T010000
END:DAYLIGHT
BEGIN:STANDARD
TZOFFSETFROM:+0200
TZOFFSETTO:+0100
TZNAME:CET
DTSTART:20251026T010000
END:STANDARD
END:VTIMEZONE
BEGIN:VEVENT
DTSTART;TZID=Europe/Paris:20241114T133000
DTEND;TZID=Europe/Paris:20241115T170000
DTSTAMP:20260421T094014
CREATED:20240909T132433Z
LAST-MODIFIED:20241008T130804Z
UID:47943-1731591000-1731690000@craham.unicaen.fr
SUMMARY:Les nouvelles vies des divinités grecques du XIVe au XXe siècle
DESCRIPTION:Coord. : C. Gaullier-Bougassas (UMR Craham · Unicaen) \n\n\n\n\n\nColloque organisé dans le cadre du l’ERC Advanced Grant AGRELITA • The Reception of Ancient Greece in Premodern French Literature and Illustrations of Manuscripts and Printed Books (1320-1550): how invented memories shaped the identity of European communities.This project has received funding from the European Commission’s Horizon 2020 Research and Innovation programme under grant agreement No 101018777 \n\n\n\nLieu : École française d’Athènes • rue Didotou 6 (Athènes) \n\n\n\n\n\nProgramme\n\n\n\nJeudi 14 novembre • 13h30-18h\n\n\n\n13h30 : Accueil des participants \n\n\n\n\n13h45 : Gilles de RAPPER (Directeur des études modernes et contemporaines de l’École française d’Athènes) et Catherine GAULLIER-BOUGASSAS (Craham\, ERC Agrelita)\, mot d’accueil et introduction\n\n\n\n14h15 : Charis MESSIS (Université nationale et capodistrienne d’Athènes)\, « La perception des dieux de l’antiquité gréco-romaine dans la littérature byzantine des derniers siècles (XIVe-XVe siècle) : continuités ou innovation ? »\n\n\n\n14h45 : Juan Bautista JUAN LÓPEZ (Central European University)\, “The Soul’s Pantheon: Ethical Allegory of Homeric Gods in the Late Byzantine Period”\n\n\n\n15h15 : Angèle TENCE (Craham\, ERC Agrelita)\, « Un “deluge de feu” en mots et en images : l’interprétation du mythe de Phaéton dans trois exemplaires de La Cité de Dieu traduite par Raoul de Presles (XVe siècle) »\n\n\n\n\n\n\n\n\n\n\n\n\n15h45 : Discussion et pause \n\n\n\n\n16h30 : Émilie SÉRIS (Sorbonne Université\, UR Rome et ses renaissances)\, « La reconfiguration du panthéon dans les Hymni naturales de Michel Marulle (1497) »\n\n\n\n17h : Petros FOKIANOS (EHESS\, Université de Patras)\, « Les Hymni naturales de Michel Marulle : entre les dieux créateurs hellénocentriques et le genus grec dépourvu de territoire de la fin du Quattrocento »\n\n\n\n\n17h30 : Discussion \n\n\n\nDîner pour les conférenciers \n\n\n\nVendredi 15 novembre • 9h-17h\n\n\n\n\n9h : Laury-Nuria ANDRÉ (Université de Lyon 2\, HiSoMa) et François de CALLATAŸ (Bibliothèque royale de Belgique\, Université libre de Bruxelles)\, « Jean Second\, littérateur-médailleur\, et la place du paysage à l’antique sur les médailles du XVIe siècle »\n\n\n\n9h30 : Vassiliki KOUTSOBINA (National and Kapodistrian University of Athens)\, “Textual and Musical Metamorphoses of Tyche/Fortuna in Early Sixteenth-century Polyphony”\n\n\n\n\n10h : Discussion et pause \n\n\n\n\n10h45 : Irini APOSTOLOU (Université nationale et capodistrienne d’Athènes)\, « Les voyageurs à la recherche des dieux antiques (XVIIe-XVIIIe siècle) »\n\n\n\n11h15 : Michael KONARIS (Centre for Greek and Latin Literature of the Academy of Athens)\, “Constructing a Theology of Greek Religion: Eckart Peterich’s Die Theologie der Hellenen (1938)”\n\n\n\n\n11h45 : Discussion\, puis déjeuner pour les conférenciers \n\n\n\n\n14h : Elena STAIKOU (National and Kapodistrian University of Athens)\, “Greek Female Divinities in the Art of late 19th and 20th Centuries: The case of Paul Delvaux (1897-1994)”\n\n\n\n14h30 : Gilles de RAPPER (École française d’Athènes)\, « Les Pélasges sont-ils les inventeurs des divinités grecques ? Un point de vue albanais »\n\n\n\n\n15h : Discussion \n\n\n\n\n15h30 : Stamatis ZOCHIOS (CRFH\, Académie d’Athènes\, EPHE-PSL) et Jiří DYNDA (Académie des sciences de la République tchèque)\, “From Olympus to the Steppes: Mapping the Greco-Roman Influence on the Creation of Slavic Mythology”\n\n\n\n16h : Néphélie SKARLATOS (EPHE-PSL\, École française d’Athènes)\, « La nouvelle vie des divinités de l’Antiquité : une étude anthropologique du mouvement polythéiste grec contemporain »\n\n\n\n\n16h30 : Discussion
URL:https://craham.unicaen.fr/evenement/les-nouvelles-vies-des-divinites-grecques-du-xive-au-xxe-siecle/
CATEGORIES:Congrès - Colloque
ATTACH;FMTTYPE=image/jpeg:https://craham.unicaen.fr/wp-content/uploads/sites/62/2024/09/Affiche_Agrelita_colloque_Athenes_2024-scaled.jpg
END:VEVENT
END:VCALENDAR