BEGIN:VCALENDAR
VERSION:2.0
PRODID:-//Craham · Centre de recherches archéologiques et historiques anciennes et médiévales - ECPv6.15.18//NONSGML v1.0//EN
CALSCALE:GREGORIAN
METHOD:PUBLISH
X-ORIGINAL-URL:https://craham.unicaen.fr
X-WR-CALDESC:Évènements pour Craham · Centre de recherches archéologiques et historiques anciennes et médiévales
REFRESH-INTERVAL;VALUE=DURATION:PT1H
X-Robots-Tag:noindex
X-PUBLISHED-TTL:PT1H
BEGIN:VTIMEZONE
TZID:Europe/Paris
BEGIN:DAYLIGHT
TZOFFSETFROM:+0100
TZOFFSETTO:+0200
TZNAME:CEST
DTSTART:20230326T010000
END:DAYLIGHT
BEGIN:STANDARD
TZOFFSETFROM:+0200
TZOFFSETTO:+0100
TZNAME:CET
DTSTART:20231029T010000
END:STANDARD
BEGIN:DAYLIGHT
TZOFFSETFROM:+0100
TZOFFSETTO:+0200
TZNAME:CEST
DTSTART:20240331T010000
END:DAYLIGHT
BEGIN:STANDARD
TZOFFSETFROM:+0200
TZOFFSETTO:+0100
TZNAME:CET
DTSTART:20241027T010000
END:STANDARD
BEGIN:DAYLIGHT
TZOFFSETFROM:+0100
TZOFFSETTO:+0200
TZNAME:CEST
DTSTART:20250330T010000
END:DAYLIGHT
BEGIN:STANDARD
TZOFFSETFROM:+0200
TZOFFSETTO:+0100
TZNAME:CET
DTSTART:20251026T010000
END:STANDARD
END:VTIMEZONE
BEGIN:VEVENT
DTSTART;TZID=Europe/Paris:20241210T140000
DTEND;TZID=Europe/Paris:20241210T180000
DTSTAMP:20260421T031001
CREATED:20241127T153639Z
LAST-MODIFIED:20241129T084325Z
UID:48417-1733839200-1733853600@craham.unicaen.fr
SUMMARY:Soutenance de thèse de T. Vergine : Les agglomérations d’origine castrale dans le Nord de la Bourgogne ducale au Moyen Âge
DESCRIPTION:Soutenance de thèse de Thomas Vergine.  \n\n\n\nLes agglomérations d’origine castrale dans le Nord de la Bourgogne ducale au Moyen Âge (bailliages d’Auxois et de la Montagne) : morphogenèse\, topographie et dynamiques (résumé sur theses.fr) \n\n\n\nLe 10 décembre 2024 à 14h\, salle des Actes (SH-027) de la Maison de la Recherche en Sciences Humaines de l’Université de Caen Normandie (Campus 1) \n\n\n\nPour obtenir le diplôme de doctorat (spécialité : Histoire\, Histoire de l’art et Archéologie)Préparée à l’Université de Caen Normandie\, au sein du CRAHAM (UMR 6273) et de l’ED 558 (Normandie Humanités)\, sous la direction de Luc Bourgeois\, professeur d’archéologie médiévale\, Professeur d’Histoire médiévale (Université de Caen Normandie) \n\n\n\nDevant un jury composé de : \n\n\n\n\nM. Pierre Bauduin\, Professeur d’histoire médiévale\, Université de Caen Normandie (examinateur)\n\n\n\nM. Luc Bourgeoin\, Professeur d’archéologie médiévale\, Université de Caen Normandie (directeur de thèse)\n\n\n\nM. Olivier Bruand\, Professeur émérite d’histoire médiévale\, Université Clermont-Auvergne (examinateur)\n\n\n\nMme Élisabeth Lorans\, Professeure émérite d’archéologie médiévale\, Université François-Rabelais de Tours (rapportrice)\n\n\n\nM. Laurent Schneider\, Directeur de recherche\, EHESS / CIHAM (examinateur)\n\n\n\nMme Valérie Serdon-Provost\, Professeure d’archéologie et d’histoire de l’art du Moyen Âge\, Université Paris-Nanterre (rapportrice)\n\n\n\nM. Alexis Wilkin\, Professeur d’histoire médiévale\, Université livre de Bruxelles (examinateur)
URL:https://craham.unicaen.fr/evenement/soutenance-de-these-les-agglomerations-dorigine-castrale-dans-le-nord-de-la-bourgogne-ducale-au-moyen-age/
LOCATION:Caen · Campus 1 · Maison de la recherche en sciences humaines (MRSH) · Salle des Actes (SH-027)\, Campus 1\, Maison de la recherche en sciences humaines (MRSH)\, 1 Esplanade de la Paix\, Caen\, 14000\, France
CATEGORIES:Soutenance
END:VEVENT
END:VCALENDAR