BEGIN:VCALENDAR
VERSION:2.0
PRODID:-//Craham · Centre de recherches archéologiques et historiques anciennes et médiévales - ECPv6.15.18//NONSGML v1.0//EN
CALSCALE:GREGORIAN
METHOD:PUBLISH
X-WR-CALNAME:Craham · Centre de recherches archéologiques et historiques anciennes et médiévales
X-ORIGINAL-URL:https://craham.unicaen.fr
X-WR-CALDESC:Évènements pour Craham · Centre de recherches archéologiques et historiques anciennes et médiévales
REFRESH-INTERVAL;VALUE=DURATION:PT1H
X-Robots-Tag:noindex
X-PUBLISHED-TTL:PT1H
BEGIN:VTIMEZONE
TZID:Europe/Paris
BEGIN:DAYLIGHT
TZOFFSETFROM:+0100
TZOFFSETTO:+0200
TZNAME:CEST
DTSTART:20230326T010000
END:DAYLIGHT
BEGIN:STANDARD
TZOFFSETFROM:+0200
TZOFFSETTO:+0100
TZNAME:CET
DTSTART:20231029T010000
END:STANDARD
BEGIN:DAYLIGHT
TZOFFSETFROM:+0100
TZOFFSETTO:+0200
TZNAME:CEST
DTSTART:20240331T010000
END:DAYLIGHT
BEGIN:STANDARD
TZOFFSETFROM:+0200
TZOFFSETTO:+0100
TZNAME:CET
DTSTART:20241027T010000
END:STANDARD
BEGIN:DAYLIGHT
TZOFFSETFROM:+0100
TZOFFSETTO:+0200
TZNAME:CEST
DTSTART:20250330T010000
END:DAYLIGHT
BEGIN:STANDARD
TZOFFSETFROM:+0200
TZOFFSETTO:+0100
TZNAME:CET
DTSTART:20251026T010000
END:STANDARD
END:VTIMEZONE
BEGIN:VEVENT
DTSTART;TZID=Europe/Paris:20241214T140000
DTEND;TZID=Europe/Paris:20241214T180000
DTSTAMP:20260421T094008
CREATED:20241120T085458Z
LAST-MODIFIED:20241129T084302Z
UID:48394-1734184800-1734199200@craham.unicaen.fr
SUMMARY:Soutenance de thèse de L. Cèbe : La mise en écriture d’un droit coutumier. Les coutumes de la vicomté de l’eau de Rouen (XIIIe-XVIe siècle) 
DESCRIPTION:Soutenance de thèse de Laure Cèbe \n\n\n\nLa mise en écriture d’un droit coutumier. Les coutumes de la vicomté de l’eau de Rouen (XIIIe-XVIe siècle) [résumé sur theses.fr] \n\n\n\nLe 14 décembre 2024 à 14h\, salle des Actes (SH-027) de la Maison de la Recherche en Sciences Humainesde l’Université de Caen Normandie (Campus 1\, voir plan joint) \n\n\n\nPour obtenir le diplôme de doctorat (spécialité : Histoire\, Histoire de l’art et Archéologie)Préparée à l’Université de Caen Normandie\, au sein du CRAHAM (UMR 6273) et de l’ED 558 (Normandie Humanités)\, sous la direction de Laurence Jean-Marie\, Maître de conférences HDR en Histoire médiévale (Université de Caen Normandie) \n\n\n\nDevant un jury composé de : \n\n\n\n\nMonsieur Paul Bertrand\, Professeur d’Histoire médiévale\, Université catholique de Louvain\, rapporteur\n\n\n\nMonsieur Boris Bove\, Professeur d’Histoire médiévale\, Université de Rouen Normandie\, examinateur\n\n\n\nMadame Laurence Buchholzer\, Maître de conférences en Histoire médiévale\, Université de Strasbourg\, examinatrice\n\n\n\nMonsieur Frédéric Duval\, Professeur de philologie romane\, École nationale des chartes-PSL\, rapporteur\n\n\n\nMadame Laurence Jean-Marie\, Maître de conférences HDR en Histoire médiévale\, Université de Caen Normandie\, directrice\n\n\n\nMadame Valérie Theis\, Professeur d’Histoire médiévale\, École normale supérieure-PSL\, examinatrice
URL:https://craham.unicaen.fr/evenement/soutenance-de-these-laure-cebe/
LOCATION:Caen · Campus 1 · Maison de la recherche en sciences humaines (MRSH) · Salle des Actes (SH-027)\, Campus 1\, Maison de la recherche en sciences humaines (MRSH)\, 1 Esplanade de la Paix\, Caen\, 14000\, France
CATEGORIES:Soutenance
END:VEVENT
END:VCALENDAR