BEGIN:VCALENDAR
VERSION:2.0
PRODID:-//Craham · Centre de recherches archéologiques et historiques anciennes et médiévales - ECPv6.15.18//NONSGML v1.0//EN
CALSCALE:GREGORIAN
METHOD:PUBLISH
X-ORIGINAL-URL:https://craham.unicaen.fr
X-WR-CALDESC:Évènements pour Craham · Centre de recherches archéologiques et historiques anciennes et médiévales
REFRESH-INTERVAL;VALUE=DURATION:PT1H
X-Robots-Tag:noindex
X-PUBLISHED-TTL:PT1H
BEGIN:VTIMEZONE
TZID:Europe/Paris
BEGIN:DAYLIGHT
TZOFFSETFROM:+0100
TZOFFSETTO:+0200
TZNAME:CEST
DTSTART:20230326T010000
END:DAYLIGHT
BEGIN:STANDARD
TZOFFSETFROM:+0200
TZOFFSETTO:+0100
TZNAME:CET
DTSTART:20231029T010000
END:STANDARD
BEGIN:DAYLIGHT
TZOFFSETFROM:+0100
TZOFFSETTO:+0200
TZNAME:CEST
DTSTART:20240331T010000
END:DAYLIGHT
BEGIN:STANDARD
TZOFFSETFROM:+0200
TZOFFSETTO:+0100
TZNAME:CET
DTSTART:20241027T010000
END:STANDARD
BEGIN:DAYLIGHT
TZOFFSETFROM:+0100
TZOFFSETTO:+0200
TZNAME:CEST
DTSTART:20250330T010000
END:DAYLIGHT
BEGIN:STANDARD
TZOFFSETFROM:+0200
TZOFFSETTO:+0100
TZNAME:CET
DTSTART:20251026T010000
END:STANDARD
END:VTIMEZONE
BEGIN:VEVENT
DTSTART;TZID=Europe/Paris:20241218T140000
DTEND;TZID=Europe/Paris:20241218T180000
DTSTAMP:20260421T030939
CREATED:20241118T102312Z
LAST-MODIFIED:20241129T084353Z
UID:48364-1734530400-1734544800@craham.unicaen.fr
SUMMARY:Soutenance de thèse de B. Michel : « L’encre et le pain » : les vassaux de l’évêché de Bayeux (XIe-XIIIe siècle) 
DESCRIPTION:Soutenance de thèse de Bastien Michel \n\n\n\n« L’encre et le pain » : les vassaux de l’évêché de Bayeux (XIe-XIIIe siècle)  (résumé sur theses.fr) \n\n\n\nLe 18 décembre 2024 à 14h\, salle des Actes (SH-027) de la Maison de la Recherche en Sciences Humaines de l’Université de Caen Normandie (Campus 1) \n\n\n\nPour obtenir le diplôme de doctorat (spécialité : Histoire\, Histoire de l’art et Archéologie)Préparée à l’Université de Caen Normandie\, au sein du CRAHAM (UMR 6273) et de l’ED 558 (Normandie Humanités)\, sous la direction de Pierre Bauduin\, Professeur d’Histoire médiévale (Université de Caen Normandie) \n\n\n\nDevant un jury composé de : \n\n\n\n\nMadame Hélène Débax\, Professeur d’Histoire médiévale\, Université Toulouse &#x9E;Jean-Jaurès\, rapportrice\n\n\n\nMonsieur Jean-François Nieus\, Professeur d’Histoire médiévale\, Université de Namur\, rapporteur\n\n\n\nMonsieur Grégory Combalbert\, Maître de conférences en Histoire médiévale\, Université de Caen Normandie\, examinateur\n\n\n\nMonsieur Thierry Pécout\, Professeur d’Histoire médiévale\, Université Saint-Étienne &#x9E;Jean Monnet\, examinateur\n\n\n\nMadame Annick Peters-Custot\, Professeur d’Histoire médiévale\, Nantes Université\, examinatrice\n\n\n\nMonsieur Daniel Power\, Professeur d’Histoire médiévale\, Swansea University\, examinateur\n\n\n\nMonsieur Pierre Bauduin\, Professeur d’Histoire médiévale\, Université de Caen Normandie\, directeur
URL:https://craham.unicaen.fr/evenement/soutenance-de-these-bastien-michel/
LOCATION:Caen · Campus 1 · Maison de la recherche en sciences humaines (MRSH) · Salle des Actes (SH-027)\, Campus 1\, Maison de la recherche en sciences humaines (MRSH)\, 1 Esplanade de la Paix\, Caen\, 14000\, France
CATEGORIES:Soutenance
END:VEVENT
END:VCALENDAR