BEGIN:VCALENDAR
VERSION:2.0
PRODID:-//Craham · Centre de recherches archéologiques et historiques anciennes et médiévales - ECPv6.15.18//NONSGML v1.0//EN
CALSCALE:GREGORIAN
METHOD:PUBLISH
X-WR-CALNAME:Craham · Centre de recherches archéologiques et historiques anciennes et médiévales
X-ORIGINAL-URL:https://craham.unicaen.fr
X-WR-CALDESC:Évènements pour Craham · Centre de recherches archéologiques et historiques anciennes et médiévales
REFRESH-INTERVAL;VALUE=DURATION:PT1H
X-Robots-Tag:noindex
X-PUBLISHED-TTL:PT1H
BEGIN:VTIMEZONE
TZID:Europe/Paris
BEGIN:DAYLIGHT
TZOFFSETFROM:+0100
TZOFFSETTO:+0200
TZNAME:CEST
DTSTART:20250330T010000
END:DAYLIGHT
BEGIN:STANDARD
TZOFFSETFROM:+0200
TZOFFSETTO:+0100
TZNAME:CET
DTSTART:20251026T010000
END:STANDARD
BEGIN:DAYLIGHT
TZOFFSETFROM:+0100
TZOFFSETTO:+0200
TZNAME:CEST
DTSTART:20260329T010000
END:DAYLIGHT
BEGIN:STANDARD
TZOFFSETFROM:+0200
TZOFFSETTO:+0100
TZNAME:CET
DTSTART:20261025T010000
END:STANDARD
BEGIN:DAYLIGHT
TZOFFSETFROM:+0100
TZOFFSETTO:+0200
TZNAME:CEST
DTSTART:20270328T010000
END:DAYLIGHT
BEGIN:STANDARD
TZOFFSETFROM:+0200
TZOFFSETTO:+0100
TZNAME:CET
DTSTART:20271031T010000
END:STANDARD
END:VTIMEZONE
BEGIN:VEVENT
DTSTART;TZID=Europe/Paris:20260424T093000
DTEND;TZID=Europe/Paris:20260424T153000
DTSTAMP:20260426T060015
CREATED:20250911T114153Z
LAST-MODIFIED:20260421T105609Z
UID:89027-1777023000-1777044600@craham.unicaen.fr
SUMMARY:Journée des doctorants du Craham 2026 : « Per aspera ad doctorat »
DESCRIPTION:Programme\n\n\n\n9 h 30 – 12 h 15 \n\n\n\nAccueil des participants \n\n\n\nMarie-Cécile TRUC (UMR Craham · Inrap)\, Le mobilier funéraire mérovingien en Champagne-Ardenne (fin Ve-VIIIe s.) : objets\, gestes\, identités \n\n\n\nAndré DESCORPS-DECLÈRE (UMR Craham · UNICAEN | UMR Ciham · Université Jean Moulin Lyon 3)\, César\, un conquérant oublié ? La tradition médiévale de Jules César dans les sources historiques du haut Moyen Âge (VIe-Xe s.) \n\n\n\nSarah VINCENT (UMR Craham · UNICAEN)\, Par-delà les mers : trajectoires féminines en Irlande viking \n\n\n\n14 h – 15 h 30 \n\n\n\nJocelyn COULON (UMR Craham · UNICAEN)\, Mobilités contraintes et mobilités sociales : réflexions sur les enjeux sociaux de l’exil dans les mondes normands médiévaux (XIe-milieu XIIe s.) \n\n\n\nBruno RENARD (UMR Craham · UNICAEN)\, Péages et circulation fluviale sur la basse vallée de l’Oise aux XIVe et XVe s. \n\n\n\n\nN. B. : La communication de Camille CILONA (UR GRHis · Université de Rouen Normandie | UMR Craham · UNICAEN)\, Rouen vue de ses murs. Fonctions et incidences des fortifications sur la ville (XVe-milieu XVIe s.) est annulée. \n\n\n\n\n \n\n\n\n\n\n\n\n\n\nCoordination\n\n\n\n\nJocelyn Coulon (UMR Craham · Unicaen)\n\n\n\n\nAffiche_journee-Doctorants-2026 (pdf · 2 Mo)
URL:https://craham.unicaen.fr/evenement/journee-des-doctorants-2026/
LOCATION:Caen · Campus 1 · Maison de la recherche en sciences humaines (MRSH) · Amphi\, Campus 1\, Maison de la recherche en sciences humaines (MRSH)\, 1 Esplanade de la Paix\, Caen\, 14000\, France
CATEGORIES:Journée d'étude
ATTACH;FMTTYPE=image/png:https://craham.unicaen.fr/wp-content/uploads/sites/62/2025/09/visuel-journee-doctorants-craham-2026.png
END:VEVENT
END:VCALENDAR